BEGIN:VCALENDAR
VERSION:2.0
PRODID:-//CERN//INDICO//EN
BEGIN:VEVENT
SUMMARY:Extended seminar prof. Biasetti What Does Ethics Mean Beyond Earth
 ? - PRIMA PARTE
DTSTART:20260528T080000Z
DTEND:20260528T103000Z
DTSTAMP:20260420T214700Z
UID:indico-event-1796@indico.dfa.unipd.it
DESCRIPTION:Speakers: Pierfrancesco Biasetti\n\nabstract:\nlink zoom:\nArg
 omento: Extended seminar prof. Biasetti - What Does Ethics Mean Beyond Ear
 th?Entra nella riunione in Zoomhttps://unipd.zoom.us/j/88275082531?pwd=dp4
 2keaJpTyeoX7aybYLfprBItQLnp.1ID riunione: 882 7508 2531Codice d’accesso:
  282169\n\nhttps://indico.dfa.unipd.it/event/1796/
LOCATION:Sala riunioni grande - DII via Venezia\, 1
URL:https://indico.dfa.unipd.it/event/1796/
END:VEVENT
END:VCALENDAR
