BEGIN:VCALENDAR
VERSION:2.0
PRODID:-//CERN//INDICO//EN
BEGIN:VEVENT
SUMMARY:EXTENDED SEMINAR (2nd part only online) Python for data analysis a
 nd scientific visualization - SECONDA PARTE SOLO ONLINE
DTSTART:20260529T080000Z
DTEND:20260529T103000Z
DTSTAMP:20260420T214700Z
UID:indico-event-1795@indico.dfa.unipd.it
DESCRIPTION:Speakers: Michele Cogo (Università di Padova)\n\nabstract:\nL
 ink zoom:\nArgomento: EXTENDED SEMINAR Python for data analysis and scient
 ific visualization -prof. Michele CogoEntra nella riunione in Zoomhttps://
 unipd.zoom.us/j/83135135105?pwd=oRV72bSgqGZpLbkbhOA5cF2mqNGBZB.1ID riunion
 e: 831 3513 5105Codice d’accesso: 234589\n\nhttps://indico.dfa.unipd.it/
 event/1795/
URL:https://indico.dfa.unipd.it/event/1795/
END:VEVENT
END:VCALENDAR
