BEGIN:VCALENDAR
VERSION:2.0
PRODID:-//CERN//INDICO//EN
BEGIN:VEVENT
SUMMARY:EXTENDED SEMINAR Python for data analysis and scientific visualiza
 tion  - PRIMA PARTE
DTSTART:20260526T080000Z
DTEND:20260526T103000Z
DTSTAMP:20260420T214700Z
UID:indico-event-1794@indico.dfa.unipd.it
DESCRIPTION:Speakers: Michele Cogo (Università di Padova)\n\nabstract\nIS
 TRUZIONI: per la partecipazione attiva è richiesto avere il proprio pc (s
 enza particolari requisiti di sistema)\, ma si può fruire della lezione a
 nche in modo passivo\nINSTRUCTIONS:Active participation requires a PC (no 
 specific system requirements)\, but youcan also passively participate.\n 
 \n\nhttps://indico.dfa.unipd.it/event/1794/
LOCATION:Sala riunioni grande - DII - via Venezia\, 1
URL:https://indico.dfa.unipd.it/event/1794/
END:VEVENT
END:VCALENDAR
