BEGIN:VCALENDAR
VERSION:2.0
PRODID:-//CERN//INDICO//EN
BEGIN:VEVENT
SUMMARY:EXTENDED SEMINAR Introduction to Project Management and Systems En
 gineering - SECONDA PARTE
DTSTART:20260527T080000Z
DTEND:20260527T103000Z
DTSTAMP:20260420T214700Z
UID:indico-event-1793@indico.dfa.unipd.it
DESCRIPTION:Speakers: Francesco Dazzi (INAF)\n\nAbstract:\nlink zoom:\nArg
 omento: EXTENDED SEMINAR Introduction to Project Management and Systems En
 gineering - dott. Francesco DazziEntra nella riunione in Zoomhttps://unipd
 .zoom.us/j/86979636740?pwd=R4DdTqoGqfG8za7RS0x6cz3J06iBbm.1ID riunione: 86
 9 7963 6740Codice d’accesso: 127960\n\nhttps://indico.dfa.unipd.it/event
 /1793/
LOCATION:Sala riunioni grande - DII - via Venezia\, 1
URL:https://indico.dfa.unipd.it/event/1793/
END:VEVENT
END:VCALENDAR
