BEGIN:VCALENDAR
VERSION:2.0
PRODID:-//CERN//INDICO//EN
BEGIN:VEVENT
SUMMARY:EXTENDED SEMINAR Introduction to Project Management and Systems En
 gineering - PRIMA PARTE
DTSTART:20260513T080000Z
DTEND:20260513T103000Z
DTSTAMP:20260420T214700Z
UID:indico-event-1792@indico.dfa.unipd.it
DESCRIPTION:Speakers: Francesco Dazzi (INAF)\n\nArgomento: EXTENDED SEMINA
 R Introduction to Project Management and Systems Engineering - dott. Franc
 esco DazziEntra nella riunione in Zoomhttps://unipd.zoom.us/j/86979636740?
 pwd=R4DdTqoGqfG8za7RS0x6cz3J06iBbm.1ID riunione: 869 7963 6740Codice d’a
 ccesso: 127960\n\nhttps://indico.dfa.unipd.it/event/1792/
LOCATION:Sala riunioni grande - DII - via Venezia\, 1
URL:https://indico.dfa.unipd.it/event/1792/
END:VEVENT
END:VCALENDAR
