BEGIN:VCALENDAR
VERSION:2.0
PRODID:-//CERN//INDICO//EN
BEGIN:VEVENT
SUMMARY:Wall-bounded turbulence at high-Reynolds number - Experimental cha
 llenges and applications
DTSTART:20260526T143000Z
DTEND:20260526T153000Z
DTSTAMP:20260420T214700Z
UID:indico-event-1791@indico.dfa.unipd.it
DESCRIPTION:Speakers: Gabriele Bellani (University of Bologna)\n\nAbstract
 :\nZoom link: \nArgomento: SHORT SEMINAR "Wall-bounded turbulence at High
 -Reynolds number - experimental challenges and applications” - prof. Gab
 riele Bellani Ora: 26 mag 2026 04:30 PM Amsterdam\, Berlino\, Roma\, Stocc
 olma\, ViennaEntra nella riunione in Zoomhttps://unipd.zoom.us/j/857474347
 82ID riunione: 857 4743 4782\n\nhttps://indico.dfa.unipd.it/event/1791/
LOCATION:DII - Sala Riunioni Grande - Via Venezia 1
URL:https://indico.dfa.unipd.it/event/1791/
END:VEVENT
END:VCALENDAR
