BEGIN:VCALENDAR
VERSION:2.0
PRODID:-//CERN//INDICO//EN
BEGIN:VEVENT
SUMMARY:Incontro TOPLab triennale
DTSTART:20260416T100000Z
DTEND:20260416T120000Z
DTSTAMP:20260420T114400Z
UID:indico-event-1785@indico.dfa.unipd.it
DESCRIPTION:https://indico.dfa.unipd.it/event/1785/
LOCATION:1/2-1 - Sala Milla Baldo (Dipartimento di Fisica e Astronomia - E
 dificio Marzolo)
URL:https://indico.dfa.unipd.it/event/1785/
END:VEVENT
END:VCALENDAR
